BEGIN:VCALENDAR
VERSION:2.0
PRODID:-//Aesthetics Membership - ECPv6.15.20//NONSGML v1.0//EN
CALSCALE:GREGORIAN
METHOD:PUBLISH
X-ORIGINAL-URL:https://aestheticsjournal.com
X-WR-CALDESC:Events for Aesthetics Membership
REFRESH-INTERVAL;VALUE=DURATION:PT1H
X-Robots-Tag:noindex
X-PUBLISHED-TTL:PT1H
BEGIN:VTIMEZONE
TZID:UTC
BEGIN:STANDARD
TZOFFSETFROM:+0000
TZOFFSETTO:+0000
TZNAME:UTC
DTSTART:20230101T000000
END:STANDARD
END:VTIMEZONE
BEGIN:VEVENT
DTSTART;VALUE=DATE:20240208
DTEND;VALUE=DATE:20240209
DTSTAMP:20260421T094504
CREATED:20231130T224826Z
LAST-MODIFIED:20231201T163606Z
UID:10000014-1707350400-1707436799@aestheticsjournal.com
SUMMARY:PROFHILO “HANDS-ON” WITH HA-DERMA
DESCRIPTION:Profhilo® is a revolutionary BDDE-free\, thermally stabilized hyaluronic acid product for skin remodeling produced with the patented NAHYCO technology. \nProfhilo has proven to be much appreciated for its characteristics of safety\, high spreadability and cohesivity. These qualities have been shown to be very effective in treating skin laxity and improving skin quality in areas such as face and neck.\nOur course provides practitioners with a theoretical and practical knowledge of how to treat patients safely with Profhilo. Practitioners will have a chance to learn recommended treatment protocols and injectable techniques – we put emphasis on the practical session. \nAll attendees are signed off by the course trainer and will receive a certificate of attendance and 6 CPD points upon successful completion.\nInsurance recognised training course. \nHA-Derma is the exclusive UK & Ireland distributor / training provider for IBSA’s aesthetic products. HA-Derma has the most complete\, up-to-date knowledge & experience with all IBSA’s brands.
URL:https://aestheticsjournal.com/event/profhilo-hands-on-with-ha-derma-8/
LOCATION:FaceTherapy NI\, 545 Antrim Rd\,\, Belfast\, BT15 3BU\, United Kingdom
CATEGORIES:Training
ATTACH;FMTTYPE=image/jpeg:https://aestheticsjournal.com/wp-content/uploads/2023/11/b5dd82129b754b31b758d830a3d1d822_PROFHILO-BOX.jpg
ORGANIZER;CN="HA - DERMA":MAILTO:info@ha-derma.co.uk
END:VEVENT
END:VCALENDAR